BEGIN:VCALENDAR
VERSION:2.0
PRODID:-//Fortune of War - ECPv5.2.1//NONSGML v1.0//EN
CALSCALE:GREGORIAN
METHOD:PUBLISH
X-WR-CALNAME:Fortune of War
X-ORIGINAL-URL:https://www.fortuneofwar.com.au
X-WR-CALDESC:Events for Fortune of War
BEGIN:VTIMEZONE
TZID:UTC
BEGIN:STANDARD
TZOFFSETFROM:+0000
TZOFFSETTO:+0000
TZNAME:UTC
DTSTART:20210101T000000
END:STANDARD
END:VTIMEZONE
BEGIN:VEVENT
DTSTART;TZID=UTC:20210313T140000
DTEND;TZID=UTC:20210313T180000
DTSTAMP:20210301T103946
CREATED:20210211T022628Z
LAST-MODIFIED:20210211T022628Z
UID:5970-1615644000-1615658400@www.fortuneofwar.com.au
SUMMARY:Sophie & Sharkey - Live in our Beer Garden!
DESCRIPTION:Talented New Jersey singer Elizabeth Sophie and Dan Sharkey\, one of the Fortune favourites for many a year\, team up to deliver a varied selection of classics spanning the decades\, with a few rarities thrown in. The duo features two strong lead singers whose voices blend to create some thrilling harmonies\, all underpinned by Dan’s expert guitar work. Liz & Dan love it when the crowd joins in to sing-along.
URL:https://www.fortuneofwar.com.au/event/sophie-sharkey-live-in-our-beer-garden-3/
CATEGORIES:Live Music
ATTACH;FMTTYPE=image/jpeg:https://www.fortuneofwar.com.au/wp-content/uploads/2020/08/Sophie-Sharkey-3.jpg
END:VEVENT
END:VCALENDAR