BEGIN:VCALENDAR
VERSION:2.0
PRODID:-//Fortune of War - ECPv5.2.1//NONSGML v1.0//EN
CALSCALE:GREGORIAN
METHOD:PUBLISH
X-WR-CALNAME:Fortune of War
X-ORIGINAL-URL:https://www.fortuneofwar.com.au
X-WR-CALDESC:Events for Fortune of War
BEGIN:VTIMEZONE
TZID:UTC
BEGIN:STANDARD
TZOFFSETFROM:+0000
TZOFFSETTO:+0000
TZNAME:UTC
DTSTART:20210101T000000
END:STANDARD
END:VTIMEZONE
BEGIN:VEVENT
DTSTART;TZID=UTC:20210314T113000
DTEND;TZID=UTC:20210314T153000
DTSTAMP:20210301T104051
CREATED:20210211T024343Z
LAST-MODIFIED:20210211T024343Z
UID:5974-1615721400-1615735800@www.fortuneofwar.com.au
SUMMARY:Michael Kopp - Live in our Beer Garden!
DESCRIPTION:Michael (@fifthwhisky) is a singer songwriter\, and also a seasoned cover professional with over 5 years of experience put into each show. Michael’s work has been predominately in Sydney & Melbourne\, through countless pubs\, clubs\, street corners & weddings\, as well as spending 2014 as a soloist for Carnival Cruise Lines.
URL:https://www.fortuneofwar.com.au/event/michael-kopp-live-in-our-beer-garden-7/
CATEGORIES:Live Music
ATTACH;FMTTYPE=image/jpeg:https://www.fortuneofwar.com.au/wp-content/uploads/2016/03/Michael-Kopp-Promo-6.jpg
END:VEVENT
END:VCALENDAR