BEGIN:VCALENDAR
VERSION:2.0
PRODID:-//Fortune of War - ECPv5.2.1//NONSGML v1.0//EN
CALSCALE:GREGORIAN
METHOD:PUBLISH
X-WR-CALNAME:Fortune of War
X-ORIGINAL-URL:https://www.fortuneofwar.com.au
X-WR-CALDESC:Events for Fortune of War
BEGIN:VTIMEZONE
TZID:UTC
BEGIN:STANDARD
TZOFFSETFROM:+0000
TZOFFSETTO:+0000
TZNAME:UTC
DTSTART:20210101T000000
END:STANDARD
END:VTIMEZONE
BEGIN:VEVENT
DTSTART;TZID=UTC:20210311T180000
DTEND;TZID=UTC:20210311T220000
DTSTAMP:20210301T103814
CREATED:20210211T022338Z
LAST-MODIFIED:20210211T032053Z
UID:5966-1615485600-1615500000@www.fortuneofwar.com.au
SUMMARY:Glenn Esmond - Live in our Beer Garden!
DESCRIPTION:As the bass player for Brisbane rock band ‘The Butterfly Effect’\, Glenn has spent the last 12 years touring Australia and the world. When it comes to music\, whether it be singing the songs of Bruce Springsteen and Bob Dylan\, performing mashups and medleys of ‘Daft Punk’ and ‘Mumford and Sons’ to packed dance floors or just holding court whilst the whole room sings a classic by ‘Cold Chisel’\, Glenn enjoys it all.
URL:https://www.fortuneofwar.com.au/event/glenn-esmond-live-in-our-beer-garden-18/
CATEGORIES:Live Music
ATTACH;FMTTYPE=image/jpeg:https://www.fortuneofwar.com.au/wp-content/uploads/2018/07/Glenn-Esmond.jpg
END:VEVENT
END:VCALENDAR