BEGIN:VCALENDAR
VERSION:2.0
PRODID:-//Fortune of War - ECPv5.2.1//NONSGML v1.0//EN
CALSCALE:GREGORIAN
METHOD:PUBLISH
X-WR-CALNAME:Fortune of War
X-ORIGINAL-URL:https://www.fortuneofwar.com.au
X-WR-CALDESC:Events for Fortune of War
BEGIN:VTIMEZONE
TZID:UTC
BEGIN:STANDARD
TZOFFSETFROM:+0000
TZOFFSETTO:+0000
TZNAME:UTC
DTSTART:20210101T000000
END:STANDARD
END:VTIMEZONE
BEGIN:VEVENT
DTSTART;TZID=UTC:20210224T170000
DTEND;TZID=UTC:20210224T210000
DTSTAMP:20210301T105141
CREATED:20210119T100633Z
LAST-MODIFIED:20210119T102613Z
UID:5916-1614186000-1614200400@www.fortuneofwar.com.au
SUMMARY:Glenn Campbell - Live in our Beer Garden
DESCRIPTION:Glenn Campbell is a solo performer with all the classic hits of the 70’s 80’s & 90’s. Together with the great songs from the new millennium\, “Cambo” delivers a big sound to all his performances & has forged a name for himself within the industry.
URL:https://www.fortuneofwar.com.au/event/glenn-campbell-live-in-our-beer-garden-18/
CATEGORIES:Live Music
ATTACH;FMTTYPE=image/jpeg:https://www.fortuneofwar.com.au/wp-content/uploads/2019/12/5153_image_73105941_2500843386679896_3109438056084537344_n.jpg
END:VEVENT
END:VCALENDAR